BEGIN:VCALENDAR
PRODID:-//AT Content Types//AT Event//EN
VERSION:2.0
METHOD:PUBLISH
BEGIN:VEVENT
DTSTAMP:20260423T134028Z
CREATED:20250121T181930Z
UID:ATEvent-866c78fcb9da72f31ebc3bdae262425d
LAST-MODIFIED:20251105T152315Z
SUMMARY:6th Biennial Shortleaf Pine Conference
DTSTART:20251111T130000Z
DTEND:20251113T220000Z
LOCATION:Lake Guntersville State Park\, Alabama<br />1155 Lodge Dr\, Guntersville\, AL 35976
CATEGORIES:Conference
CONTACT:cengland@shortleafpine.org
CLASS:PUBLIC
END:VEVENT
END:VCALENDAR
