BEGIN:VCALENDAR
PRODID:-//AT Content Types//AT Event//EN
VERSION:2.0
METHOD:PUBLISH
BEGIN:VEVENT
DTSTAMP:20260422T145008Z
CREATED:20150331T151808Z
UID:ATEvent-8ab33c17aa2fd933f1b03f290e4d6238
LAST-MODIFIED:20150915T182452Z
SUMMARY:3rd Biennial Shortleaf Pine Conference\: The Return of an American Forest Legacy
DTSTART:20150922T130000Z
DTEND:20150924T160000Z
LOCATION:Hilton Knoxville in Knoxville\, Tennessee
CONTACT:Mike Black\, 423-718-3612\, shortleafpine@utk.edu
CLASS:PUBLIC
END:VEVENT
END:VCALENDAR
